BEGIN:VCALENDAR
VERSION:2.0
PRODID:-//Plone.org//NONSGML plone.app.event//EN
X-WR-TIMEZONE:Europe/Madrid
BEGIN:VEVENT
SUMMARY:Cercavila de gegantes a Barcelona
DTSTART;TZID=Europe/Madrid;VALUE=DATE-TIME:20161120T100000
DTEND;TZID=Europe/Madrid;VALUE=DATE-TIME:20161120T110000
DTSTAMP;VALUE=DATE-TIME:20260420T055911Z
UID:e789c32abf0a95518267dbb64f5ce313
CREATED;VALUE=DATE-TIME:20161120T000000Z
CATEGORIES:Festa,Infantils
LOCATION:Sortida i arribada al Casal de Llavaneres
ORGANIZER:Secció de Tradicions i Festes Catalanes del Casal de Llavaneres
DESCRIPTION:A l'avinguda Maria Cristina, durant el matí
URL:https://ajllavaneres.cat/document.php?id=11098
END:VEVENT
END:VCALENDAR