BEGIN:VCALENDAR
VERSION:2.0
PRODID:-//Plone.org//NONSGML plone.app.event//EN
X-WR-TIMEZONE:Europe/Madrid
BEGIN:VEVENT
SUMMARY:Montserrat des de Collbató
DTSTART;TZID=Europe/Madrid;VALUE=DATE-TIME:20161124T070000
DTEND;TZID=Europe/Madrid;VALUE=DATE-TIME:20161124T080000
DTSTAMP;VALUE=DATE-TIME:20260419T210511Z
UID:20d2e21cbe23a9b433451d63ce6ec598
CREATED;VALUE=DATE-TIME:20161124T000000Z
CATEGORIES:Esports
LOCATION:Passeig de Jaume Brutau (davant del CAP)
ORGANIZER:Secció Sènior del Casal de Llavaneres
DESCRIPTION:Camí de Fra Garí
URL:https://ajllavaneres.cat/document.php?id=11099
END:VEVENT
END:VCALENDAR