BEGIN:VCALENDAR
VERSION:2.0
PRODID:-//Plone.org//NONSGML plone.app.event//EN
X-WR-TIMEZONE:Europe/Madrid
BEGIN:VEVENT
SUMMARY:Xocolatada popular
DTSTART;TZID=Europe/Madrid;VALUE=DATE-TIME:20161130T190000
DTEND;TZID=Europe/Madrid;VALUE=DATE-TIME:20161130T200000
DTSTAMP;VALUE=DATE-TIME:20260420T015157Z
UID:30ef2ca533b7c159ef3c5f1628c4d750
CREATED;VALUE=DATE-TIME:20161130T000000Z
CATEGORIES:Festa,Infantils
LOCATION:Pati del Casal de Llavaneres
ORGANIZER:Secció de Tradicions i Festes Catalanes del Casal de Llavaneres
URL:https://ajllavaneres.cat/document.php?id=11101
END:VEVENT
END:VCALENDAR