BEGIN:VCALENDAR
VERSION:2.0
PRODID:-//Plone.org//NONSGML plone.app.event//EN
X-WR-TIMEZONE:Europe/Madrid
BEGIN:VEVENT
SUMMARY:Espectacle infantil: "Zum"
DTSTART;TZID=Europe/Madrid;VALUE=DATE-TIME:20161130T180000
DTEND;TZID=Europe/Madrid;VALUE=DATE-TIME:20161130T190000
DTSTAMP;VALUE=DATE-TIME:20260419T235942Z
UID:d5b94def388cf18b17093d23c269ffa5
CREATED;VALUE=DATE-TIME:20161130T000000Z
CATEGORIES:Festa,Infantils
LOCATION:El Casal de Llavaneres (Sala Polivalent)
ORGANIZER:El Casal de Llavameres i la Regidoria de Cultura i Festes
DESCRIPTION:Amb la companyia La Tresca i la Verdesca
URL:https://ajllavaneres.cat/document.php?id=11103
END:VEVENT
END:VCALENDAR