BEGIN:VCALENDAR
VERSION:2.0
PRODID:-//Plone.org//NONSGML plone.app.event//EN
X-WR-TIMEZONE:Europe/Madrid
BEGIN:VEVENT
SUMMARY:Taller: 'Xmas!! Nadales modernes amb acompanyament instrumental'
DTSTART;TZID=Europe/Madrid;VALUE=DATE-TIME:20161108T180000
DTEND;TZID=Europe/Madrid;VALUE=DATE-TIME:20161108T190000
DTSTAMP;VALUE=DATE-TIME:20260420T042755Z
UID:5e5cf6bf21b7db673d0ee034d59a6b7d
CREATED;VALUE=DATE-TIME:20161108T000000Z
ORGANIZER:Escola Municipal de Música de Llavaneres
COMMENT:Preu: Gratuït per a alumnes de l'Escola de Música de Llavaneres; 38 &euro; tot el taller (5,5&euro;/sessió) per a alumnes externs.
DESCRIPTION:Formem un nou conjunt vocal per a joves de 6è de primària a 4t d'ESO
URL:https://ajllavaneres.cat/document.php?id=11108
END:VEVENT
END:VCALENDAR