BEGIN:VCALENDAR
VERSION:2.0
PRODID:-//Plone.org//NONSGML plone.app.event//EN
X-WR-TIMEZONE:Europe/Madrid
BEGIN:VEVENT
SUMMARY:Futbol 2n Equip
DTSTART;TZID=Europe/Madrid;VALUE=DATE-TIME:20080127T120000
DTEND;TZID=Europe/Madrid;VALUE=DATE-TIME:20080127T130000
DTSTAMP;VALUE=DATE-TIME:20260420T065551Z
UID:94082ce91540d54c9a72ea1533985209
CREATED;VALUE=DATE-TIME:20080127T000000Z
CATEGORIES:Esports
LOCATION:Camp municipal d'Esports
ORGANIZER:CE Llavaneres
DESCRIPTION:CE Llavaneres-Oasis CF Atl.
URL:https://ajllavaneres.cat/document.php?id=1111
END:VEVENT
END:VCALENDAR