BEGIN:VCALENDAR
VERSION:2.0
PRODID:-//Plone.org//NONSGML plone.app.event//EN
X-WR-TIMEZONE:Europe/Madrid
BEGIN:VEVENT
SUMMARY:Ballada de sardanes
DTSTART;TZID=Europe/Madrid;VALUE=DATE-TIME:20161120T120000
DTEND;TZID=Europe/Madrid;VALUE=DATE-TIME:20161120T130000
DTSTAMP;VALUE=DATE-TIME:20260419T223418Z
UID:370543a4c2c3c31aad477274a29328cd
CREATED;VALUE=DATE-TIME:20161120T000000Z
CATEGORIES:Festa
LOCATION:Plaça de la Vila
DESCRIPTION:Amb la cobla Contemporània
URL:https://ajllavaneres.cat/document.php?id=11116
END:VEVENT
END:VCALENDAR