BEGIN:VCALENDAR
VERSION:2.0
PRODID:-//Plone.org//NONSGML plone.app.event//EN
X-WR-TIMEZONE:Europe/Madrid
BEGIN:VEVENT
SUMMARY:25a Tres hores de resistència de ciclomotors
DTSTART;TZID=Europe/Madrid;VALUE=DATE-TIME:20161204T090000
DTEND;TZID=Europe/Madrid;VALUE=DATE-TIME:20161204T100000
DTSTAMP;VALUE=DATE-TIME:20260420T024607Z
UID:b10192a389a6480611264add9389a63d
CREATED;VALUE=DATE-TIME:20161204T000000Z
LOCATION:Terrenys de sota de l'autopista
ORGANIZER:Adventures Llavaneres
URL:https://ajllavaneres.cat/document.php?id=11132
END:VEVENT
END:VCALENDAR