BEGIN:VCALENDAR
VERSION:2.0
PRODID:-//Plone.org//NONSGML plone.app.event//EN
X-WR-TIMEZONE:Europe/Madrid
BEGIN:VEVENT
SUMMARY:Visita Unitat Mòbil d'Informació al Consumidor
DTSTART;TZID=Europe/Madrid;VALUE=DATE-TIME:20161118T103000
DTEND;TZID=Europe/Madrid;VALUE=DATE-TIME:20161118T113000
DTSTAMP;VALUE=DATE-TIME:20260419T174515Z
UID:a72c391327b48f54cf07e10913de49f1
CREATED;VALUE=DATE-TIME:20161118T000000Z
LOCATION:Passeig de la Mare de Déu de Montserrat - Passeig de la Mare de Déu de Montserrat
ORGANIZER:Diputació de Barcelona - Dept. Consum
COMMENT:Durada: Fins a les 13 h
URL:https://ajllavaneres.cat/document.php?id=11134
END:VEVENT
END:VCALENDAR