BEGIN:VCALENDAR
VERSION:2.0
PRODID:-//Plone.org//NONSGML plone.app.event//EN
X-WR-TIMEZONE:Europe/Madrid
BEGIN:VEVENT
SUMMARY:Xerrada: 'Quins hàbits d'alimentació són més saludables per als infants de 0 a 3 anys?'
DTSTART;TZID=Europe/Madrid;VALUE=DATE-TIME:20161115T181500
DTEND;TZID=Europe/Madrid;VALUE=DATE-TIME:20161115T191500
DTSTAMP;VALUE=DATE-TIME:20260420T070608Z
UID:511390e7104020b3683f789a5bc2b960
CREATED;VALUE=DATE-TIME:20161115T000000Z
CATEGORIES:Conferència
LOCATION:Escola Bressol Minerva de Llavaneres
ORGANIZER:Ajuntament de Sant Andreu de Llavaneres i Escoles Bressols Municipals
URL:https://ajllavaneres.cat/document.php?id=11151
END:VEVENT
END:VCALENDAR