BEGIN:VCALENDAR
VERSION:2.0
PRODID:-//Plone.org//NONSGML plone.app.event//EN
X-WR-TIMEZONE:Europe/Madrid
BEGIN:VEVENT
SUMMARY:Xerrada per a adults
DTSTART;TZID=Europe/Madrid;VALUE=DATE-TIME:20161203T103000
DTEND;TZID=Europe/Madrid;VALUE=DATE-TIME:20161203T113000
DTSTAMP;VALUE=DATE-TIME:20260419T225813Z
UID:ca8197a9523777b71149704dd46678f5
CREATED;VALUE=DATE-TIME:20161203T000000Z
CATEGORIES:Conferència
LOCATION:Sala d'actes de la Biblioteca Municipal - Closens, 65
ORGANIZER:Biblioteca Municipal ; Regidoria de Cultura
DESCRIPTION:"La força de voluntat", xerrada sobre autosuperació personal a càrrec de Francesc Gutiérrez
URL:https://ajllavaneres.cat/document.php?id=11152
END:VEVENT
END:VCALENDAR