BEGIN:VCALENDAR
VERSION:2.0
PRODID:-//Plone.org//NONSGML plone.app.event//EN
X-WR-TIMEZONE:Europe/Madrid
BEGIN:VEVENT
SUMMARY:Lliurament del donatiu de Llavaneres contra el Càncer
DTSTART;TZID=Europe/Madrid;VALUE=DATE-TIME:20161111T193000
DTEND;TZID=Europe/Madrid;VALUE=DATE-TIME:20161111T203000
DTSTAMP;VALUE=DATE-TIME:20260420T032403Z
UID:8e256d5c83d4c40cb17ee7f1dcb668d9
CREATED;VALUE=DATE-TIME:20161111T000000Z
LOCATION:Sala de plens de l'Ajuntament (plaça de la Vila, 1) - Plaça de la Vila, 1
ORGANIZER:Llavaneres Contra el Càncer
URL:https://ajllavaneres.cat/document.php?id=11154
END:VEVENT
END:VCALENDAR