BEGIN:VCALENDAR
VERSION:2.0
PRODID:-//Plone.org//NONSGML plone.app.event//EN
X-WR-TIMEZONE:Europe/Madrid
BEGIN:VEVENT
SUMMARY:2a Campanya de Recollida de Joguines
DTSTART;TZID=Europe/Madrid;VALUE=DATE-TIME:20161210T180000
DTEND;TZID=Europe/Madrid;VALUE=DATE-TIME:20161210T190000
DTSTAMP;VALUE=DATE-TIME:20260420T113324Z
UID:91e5da47b3134339ba2f228a65d39163
CREATED;VALUE=DATE-TIME:20161210T000000Z
CATEGORIES:Infantils
LOCATION:Davant del parc de Ca l'Alfaro
ORGANIZER:Càritas parroquial, amb el suport de l'Ajuntament de Llavaneres
COMMENT:Durada: Fins a les 23 h
DESCRIPTION:A càrrec de Càritas parroquial de Llavaneres
URL:https://ajllavaneres.cat/document.php?id=11162
END:VEVENT
END:VCALENDAR