BEGIN:VCALENDAR
VERSION:2.0
PRODID:-//Plone.org//NONSGML plone.app.event//EN
X-WR-TIMEZONE:Europe/Madrid
BEGIN:VEVENT
SUMMARY:Visita dels Patges Reials
DTSTART;TZID=Europe/Madrid;VALUE=DATE-TIME:20161228T170000
DTEND;TZID=Europe/Madrid;VALUE=DATE-TIME:20161228T180000
DTSTAMP;VALUE=DATE-TIME:20260420T100926Z
UID:4e1163235421cf5bf1797bfeaf668743
CREATED;VALUE=DATE-TIME:20161228T000000Z
CATEGORIES:Festa,Infantils
LOCATION:Port Balís
ORGANIZER:Consell Municipal de la Cavalcada de Reis. Amb la col·laboració del CN El Balís i l'Ajuntament de Llavaneres
COMMENT:Durada: Fins a les 20 hores
URL:https://ajllavaneres.cat/document.php?id=11174
END:VEVENT
END:VCALENDAR