BEGIN:VCALENDAR
VERSION:2.0
PRODID:-//Plone.org//NONSGML plone.app.event//EN
X-WR-TIMEZONE:Europe/Madrid
BEGIN:VEVENT
SUMMARY:Audicions d'instrument
DTSTART;TZID=Europe/Madrid;VALUE=DATE-TIME:20161121T173000
DTEND;TZID=Europe/Madrid;VALUE=DATE-TIME:20161121T183000
DTSTAMP;VALUE=DATE-TIME:20260420T002153Z
UID:0b203a4dceb0cf121874d712db5fc613
CREATED;VALUE=DATE-TIME:20161121T000000Z
CATEGORIES:Infantils,Música
LOCATION:Auditori. Escola de Música. Can Caralt - Passeig de la Mare de Déu de Montserrat, 27-33
ORGANIZER:Escola Municipal de Música Llavaneres
COMMENT:Preu: Gratuït
Durada: Fins al 24 de novembre de 2016
DESCRIPTION:Mostra del treball realitzat per alumnes d'instrument
URL:https://ajllavaneres.cat/document.php?id=11177
END:VEVENT
END:VCALENDAR