BEGIN:VCALENDAR
VERSION:2.0
PRODID:-//Plone.org//NONSGML plone.app.event//EN
X-WR-TIMEZONE:Europe/Madrid
BEGIN:VEVENT
SUMMARY:Concert de Santa Cecília
DTSTART;TZID=Europe/Madrid;VALUE=DATE-TIME:20161122T173000
DTEND;TZID=Europe/Madrid;VALUE=DATE-TIME:20161122T183000
DTSTAMP;VALUE=DATE-TIME:20260419T235906Z
UID:82385c73b8cfff982efe82ac4721a797
CREATED;VALUE=DATE-TIME:20161122T000000Z
CATEGORIES:Infantils,Música
LOCATION:Residència l'Estada
ORGANIZER:Escola Municipal de Música Llavaneres
COMMENT:Preu: Gratuït
URL:https://ajllavaneres.cat/document.php?id=11178
END:VEVENT
END:VCALENDAR