BEGIN:VCALENDAR
VERSION:2.0
PRODID:-//Plone.org//NONSGML plone.app.event//EN
X-WR-TIMEZONE:Europe/Madrid
BEGIN:VEVENT
SUMMARY:Santa Cecília a l'institut
DTSTART;TZID=Europe/Madrid;VALUE=DATE-TIME:20161124T110000
DTEND;TZID=Europe/Madrid;VALUE=DATE-TIME:20161124T120000
DTSTAMP;VALUE=DATE-TIME:20260419T235402Z
UID:9d2313faf8789849263926e2ec9222db
CREATED;VALUE=DATE-TIME:20161124T000000Z
CATEGORIES:Festa,Música
LOCATION:Institut Llavaneres
ORGANIZER:Institut de Llavaneres
COMMENT:Preu: Gratuït
DESCRIPTION:Col·laboració entre el Combo2 de l'Escola de Municipal de Música Llavaneres i l'Institut de Llavaneres
URL:https://ajllavaneres.cat/document.php?id=11179
END:VEVENT
END:VCALENDAR