BEGIN:VCALENDAR
VERSION:2.0
PRODID:-//Plone.org//NONSGML plone.app.event//EN
X-WR-TIMEZONE:Europe/Madrid
BEGIN:VEVENT
SUMMARY:L'hora del conte
DTSTART;TZID=Europe/Madrid;VALUE=DATE-TIME:20170211T120000
DTEND;TZID=Europe/Madrid;VALUE=DATE-TIME:20170211T130000
DTSTAMP;VALUE=DATE-TIME:20260423T145511Z
UID:7399d8c663e73e6f1ea15c0585fc597e
CREATED;VALUE=DATE-TIME:20170211T000000Z
CATEGORIES:Infantils
LOCATION:Sala infantil de la Biblioteca Municipal - Closens, 65
ORGANIZER:Biblioteca Municipal; Regidoria de Cultura
DESCRIPTION:La pallassa Priska, amb la rondallaire Eva Gonzàlez (inclou taller de maquillatge)
URL:https://ajllavaneres.cat/document.php?id=11181
END:VEVENT
END:VCALENDAR