BEGIN:VCALENDAR
VERSION:2.0
PRODID:-//Plone.org//NONSGML plone.app.event//EN
X-WR-TIMEZONE:Europe/Madrid
BEGIN:VEVENT
SUMMARY:Sortida al Teatre: 'Sota Teràpia'
DTSTART;TZID=Europe/Madrid;VALUE=DATE-TIME:20161229T190000
DTEND;TZID=Europe/Madrid;VALUE=DATE-TIME:20161229T200000
DTSTAMP;VALUE=DATE-TIME:20260422T114920Z
UID:165809f018a17dbef6d0ccb876eb205c
CREATED;VALUE=DATE-TIME:20161229T000000Z
CATEGORIES:Teatre
LOCATION:Teatre Borràs de Barcelona
ORGANIZER:Regidoria de Cultura
COMMENT:Preu: 40&euro;
URL:https://ajllavaneres.cat/document.php?id=11186
END:VEVENT
END:VCALENDAR