BEGIN:VCALENDAR
VERSION:2.0
PRODID:-//Plone.org//NONSGML plone.app.event//EN
X-WR-TIMEZONE:Europe/Madrid
BEGIN:VEVENT
SUMMARY:Taula rodona: 'Què els passa als nostre pins?'
DTSTART;TZID=Europe/Madrid;VALUE=DATE-TIME:20161126T120000
DTEND;TZID=Europe/Madrid;VALUE=DATE-TIME:20161126T130000
DTSTAMP;VALUE=DATE-TIME:20260420T000227Z
UID:ee889edba1215621a1045ae451c46046
CREATED;VALUE=DATE-TIME:20161126T000000Z
CATEGORIES:Conferència
LOCATION:Sala de plens de l'Ajuntament (plaça de la Vila, 1) - Plaça de la Vila, 1
ORGANIZER:Regidoria de Medi Ambient
DESCRIPTION:Actuacions per combatre la plaga del Tomicus
URL:https://ajllavaneres.cat/document.php?id=11188
END:VEVENT
END:VCALENDAR