BEGIN:VCALENDAR
VERSION:2.0
PRODID:-//Plone.org//NONSGML plone.app.event//EN
X-WR-TIMEZONE:Europe/Madrid
BEGIN:VEVENT
SUMMARY:Exposició: "Escoles d'altres mons"
DTSTART;TZID=Europe/Madrid;VALUE=DATE-TIME:20161202T190000
DTEND;TZID=Europe/Madrid;VALUE=DATE-TIME:20161202T200000
DTSTAMP;VALUE=DATE-TIME:20260420T041635Z
UID:446794708280ba97c7247988441765f1
CREATED;VALUE=DATE-TIME:20161202T000000Z
LOCATION:Espai Labandària
ORGANIZER:Regidoria d'Educació. Hi col·labora: Diputació de Barcelona
COMMENT:Durada: Fins al 30 de desembre
DESCRIPTION:Inauguració de la mostra fotogràfica de Kim Manresa
URL:https://ajllavaneres.cat/document.php?id=11189
END:VEVENT
END:VCALENDAR