BEGIN:VCALENDAR
VERSION:2.0
PRODID:-//Plone.org//NONSGML plone.app.event//EN
X-WR-TIMEZONE:Europe/Madrid
BEGIN:VEVENT
SUMMARY:Actuació d'Esperit de Joventut
DTSTART;TZID=Europe/Madrid;VALUE=DATE-TIME:20161204T170000
DTEND;TZID=Europe/Madrid;VALUE=DATE-TIME:20161204T180000
DTSTAMP;VALUE=DATE-TIME:20260422T133121Z
UID:42ab549f1589f787cd4815baf15ac6da
CREATED;VALUE=DATE-TIME:20161204T000000Z
CATEGORIES:Música
LOCATION:El Casal de Llavaneres (Sala Polivalent)
ORGANIZER:Servei d'Atenció a la Gent Gran. Regidoria de Benestar Social
COMMENT:Preu: Gratuït
URL:https://ajllavaneres.cat/document.php?id=11191
END:VEVENT
END:VCALENDAR