BEGIN:VCALENDAR
VERSION:2.0
PRODID:-//Plone.org//NONSGML plone.app.event//EN
X-WR-TIMEZONE:Europe/Madrid
BEGIN:VEVENT
SUMMARY:Festa infantil
DTSTART;TZID=Europe/Madrid;VALUE=DATE-TIME:20161211T170000
DTEND;TZID=Europe/Madrid;VALUE=DATE-TIME:20161211T180000
DTSTAMP;VALUE=DATE-TIME:20260420T034527Z
UID:b1f4d110d1807d9eade63a0280d002f8
CREATED;VALUE=DATE-TIME:20161211T000000Z
CATEGORIES:Festa,Infantils,Música
LOCATION:El Casal de Llavaneres (Sala Polivalent)
ORGANIZER:El Casal de Llavaneres
COMMENT:Preu: Entrada lliure
URL:https://ajllavaneres.cat/document.php?id=11192
END:VEVENT
END:VCALENDAR