BEGIN:VCALENDAR
VERSION:2.0
PRODID:-//Plone.org//NONSGML plone.app.event//EN
X-WR-TIMEZONE:Europe/Madrid
BEGIN:VEVENT
SUMMARY:Roques amb nom propi
DTSTART;TZID=Europe/Madrid;VALUE=DATE-TIME:20161211T100000
DTEND;TZID=Europe/Madrid;VALUE=DATE-TIME:20161211T110000
DTSTAMP;VALUE=DATE-TIME:20260420T061901Z
UID:22081d1dd3388877c5966c52d5deb3c0
CREATED;VALUE=DATE-TIME:20161211T000000Z
LOCATION:Plaça de la Vila - Plaça de la Vila, 1
ORGANIZER:Parc del Montnegre i el Corredor
COMMENT:Preu: Adults: 3 euros; menors (entre sis i dotze anys): 2 euros. 10% de descompte per a famílies nombroses i per als membres del Cercle de Voluntaris dels Parcs Naturals
DESCRIPTION:Sortides de coneixement de l'entorn del Parc del Montnegre i el Corredor
URL:https://ajllavaneres.cat/document.php?id=11198
END:VEVENT
END:VCALENDAR