BEGIN:VCALENDAR
VERSION:2.0
PRODID:-//Plone.org//NONSGML plone.app.event//EN
X-WR-TIMEZONE:Europe/Madrid
BEGIN:VEVENT
SUMMARY:Tarda de teatre en DVD: "Molt soroll per no res"
DTSTART;TZID=Europe/Madrid;VALUE=DATE-TIME:20161211T180000
DTEND;TZID=Europe/Madrid;VALUE=DATE-TIME:20161211T190000
DTSTAMP;VALUE=DATE-TIME:20260420T032433Z
UID:5e0a21d6833d323febe561a7deb8e1c4
CREATED;VALUE=DATE-TIME:20161211T000000Z
LOCATION:El Casal de Llavaneres (Sala de lectura)
ORGANIZER:Secció de Tradicions i Festes Catalanes del Casal de Llavaneres
DESCRIPTION:Tribut a Shakespeare
URL:https://ajllavaneres.cat/document.php?id=11199
END:VEVENT
END:VCALENDAR