BEGIN:VCALENDAR
VERSION:2.0
PRODID:-//Plone.org//NONSGML plone.app.event//EN
X-WR-TIMEZONE:Europe/Madrid
BEGIN:VEVENT
SUMMARY:Assaigs generals per al Concert de Nadal
DTSTART;TZID=Europe/Madrid;VALUE=DATE-TIME:20161205T180000
DTEND;TZID=Europe/Madrid;VALUE=DATE-TIME:20161205T190000
DTSTAMP;VALUE=DATE-TIME:20260423T074932Z
UID:6966f54130e825b8221961dcebe99cbd
CREATED;VALUE=DATE-TIME:20161205T000000Z
CATEGORIES:Música
LOCATION:Escola de Música. Can Caralt - Passeig de la Mare de Déu de Montserrat, 27-33
ORGANIZER:Escola Municipal de Música Llavaneres
COMMENT:Preu: Gratuït
URL:https://ajllavaneres.cat/document.php?id=11207
END:VEVENT
END:VCALENDAR