BEGIN:VCALENDAR
VERSION:2.0
PRODID:-//Plone.org//NONSGML plone.app.event//EN
X-WR-TIMEZONE:Europe/Madrid
BEGIN:VEVENT
SUMMARY:L'hora del conte
DTSTART;TZID=Europe/Madrid;VALUE=DATE-TIME:20170318T120000
DTEND;TZID=Europe/Madrid;VALUE=DATE-TIME:20170318T130000
DTSTAMP;VALUE=DATE-TIME:20260419T144921Z
UID:701d1bb73c15837b81c4d515f8152b69
CREATED;VALUE=DATE-TIME:20170318T000000Z
CATEGORIES:Infantils
LOCATION:Sala infantil de la Biblioteca Municipal - Closens, 65
ORGANIZER:Biblioteca Municipal; Regidoria de Cultura
DESCRIPTION:"En Nicolau blanc-i-blau i el seu amic Quitu", a càrrec de la seves autores Georgina Esteve i Montse Buñuel
URL:https://ajllavaneres.cat/document.php?id=11221
END:VEVENT
END:VCALENDAR