BEGIN:VCALENDAR
VERSION:2.0
PRODID:-//Plone.org//NONSGML plone.app.event//EN
X-WR-TIMEZONE:Europe/Madrid
BEGIN:VEVENT
SUMMARY:Sortida al Teatre: 'Priscilla, el musical'
DTSTART;TZID=Europe/Madrid;VALUE=DATE-TIME:20170126T190000
DTEND;TZID=Europe/Madrid;VALUE=DATE-TIME:20170126T200000
DTSTAMP;VALUE=DATE-TIME:20260420T053050Z
UID:31c0cbc825c8534e511fb11de51bdf43
CREATED;VALUE=DATE-TIME:20170126T000000Z
CATEGORIES:Teatre
LOCATION:Plaça de la Vila - Plaça de la Vila, 1
COMMENT:Preu: 50&euro;
URL:https://ajllavaneres.cat/document.php?id=11248
END:VEVENT
END:VCALENDAR