BEGIN:VCALENDAR
VERSION:2.0
PRODID:-//Plone.org//NONSGML plone.app.event//EN
X-WR-TIMEZONE:Europe/Madrid
BEGIN:VEVENT
SUMMARY:Concert de Nadal de l'Escola Jaume Llull
DTSTART;TZID=Europe/Madrid;VALUE=DATE-TIME:20161222T100000
DTEND;TZID=Europe/Madrid;VALUE=DATE-TIME:20161222T110000
DTSTAMP;VALUE=DATE-TIME:20260422T132904Z
UID:30774e4b3d7df08a5f57c1c6ef1f0860
CREATED;VALUE=DATE-TIME:20161222T000000Z
CATEGORIES:Infantils,Música
LOCATION:Pavelló municipal - Carrer dels Contrabandistes, s/n
ORGANIZER:Escola Jaume Llull
COMMENT:Preu: Gratuït
URL:https://ajllavaneres.cat/document.php?id=11249
END:VEVENT
END:VCALENDAR