BEGIN:VCALENDAR
VERSION:2.0
PRODID:-//Plone.org//NONSGML plone.app.event//EN
X-WR-TIMEZONE:Europe/Madrid
BEGIN:VEVENT
SUMMARY:Presentació del llibre: 'Cercant la llum'
DTSTART;TZID=Europe/Madrid;VALUE=DATE-TIME:20170203T180000
DTEND;TZID=Europe/Madrid;VALUE=DATE-TIME:20170203T190000
DTSTAMP;VALUE=DATE-TIME:20260420T052321Z
UID:daefbf69f7977f5a56a86d486604a859
CREATED;VALUE=DATE-TIME:20170203T000000Z
CATEGORIES:Literatura
LOCATION:Sala d'actes de la Biblioteca municipal - Carrer de Clòsens, 65
COMMENT:Durada: Fins a les 20.30 hores
DESCRIPTION:De M. Antònia Catllà Vilalta
URL:https://ajllavaneres.cat/document.php?id=11276
END:VEVENT
END:VCALENDAR