BEGIN:VCALENDAR
VERSION:2.0
PRODID:-//Plone.org//NONSGML plone.app.event//EN
X-WR-TIMEZONE:Europe/Madrid
BEGIN:VEVENT
SUMMARY:Xerrada: 'T'expliquem com fer els tràmits electrònics: factures i notificacions'
DTSTART;TZID=Europe/Madrid;VALUE=DATE-TIME:20170124T093000
DTEND;TZID=Europe/Madrid;VALUE=DATE-TIME:20170124T103000
DTSTAMP;VALUE=DATE-TIME:20260419T172940Z
UID:ca60f456c32deeead1b4fb2b081a6d59
CREATED;VALUE=DATE-TIME:20170124T000000Z
CATEGORIES:Conferència
LOCATION:Sala d'actes de la Biblioteca Municipal - Closens, 65
ORGANIZER:Regidoria de Promoció Econòmica, Empresa, Comerç i Turisme
COMMENT:Durada: De 9:30 a 11:30h
DESCRIPTION:A càrrec de Lluís Gorostiaga, tècnic multimèdia i especialista en administració electrònica
URL:https://ajllavaneres.cat/document.php?id=11278
END:VEVENT
END:VCALENDAR