BEGIN:VCALENDAR
VERSION:2.0
PRODID:-//Plone.org//NONSGML plone.app.event//EN
X-WR-TIMEZONE:Europe/Madrid
BEGIN:VEVENT
SUMMARY:Presentació pública del Pressupost municipal del 2017
DTSTART;TZID=Europe/Madrid;VALUE=DATE-TIME:20170208T200000
DTEND;TZID=Europe/Madrid;VALUE=DATE-TIME:20170208T210000
DTSTAMP;VALUE=DATE-TIME:20260419T194313Z
UID:7d6b81f91bd11752ba040ff8a59199e4
CREATED;VALUE=DATE-TIME:20170208T000000Z
LOCATION:Sala de plens de l'Ajuntament (plaça de la Vila, 1) - Plaça de la Vila, 1
ORGANIZER:Ajuntament de Sant Andreu de Llavaneres
DESCRIPTION:A càrrec del regidor d'Economia, Transparència i Participació Ciutadana, Albert Sala
URL:https://ajllavaneres.cat/document.php?id=11298
END:VEVENT
END:VCALENDAR