BEGIN:VCALENDAR
VERSION:2.0
PRODID:-//Plone.org//NONSGML plone.app.event//EN
X-WR-TIMEZONE:Europe/Madrid
BEGIN:VEVENT
SUMMARY:Trobada canina
DTSTART;TZID=Europe/Madrid;VALUE=DATE-TIME:20170212T120000
DTEND;TZID=Europe/Madrid;VALUE=DATE-TIME:20170212T130000
DTSTAMP;VALUE=DATE-TIME:20260422T132416Z
UID:90e18cb3d025f4d24f1cc0dd609cab28
CREATED;VALUE=DATE-TIME:20170212T000000Z
LOCATION:El Casal de Llavaneres
ORGANIZER:Club Espanyol de l'Scottish Terrier
DESCRIPTION:8è Concurs monogràfic d'Scottish Terrier
URL:https://ajllavaneres.cat/document.php?id=11299
END:VEVENT
END:VCALENDAR