BEGIN:VCALENDAR
VERSION:2.0
PRODID:-//Plone.org//NONSGML plone.app.event//EN
X-WR-TIMEZONE:Europe/Madrid
BEGIN:VEVENT
SUMMARY:Bàsquet mini femení B
DTSTART;TZID=Europe/Madrid;VALUE=DATE-TIME:20080201T184500
DTEND;TZID=Europe/Madrid;VALUE=DATE-TIME:20080201T194500
DTSTAMP;VALUE=DATE-TIME:20260420T095016Z
UID:6518c67d57f314752c671cfad59c4468
CREATED;VALUE=DATE-TIME:20080201T000000Z
CATEGORIES:Esports
LOCATION:Pavelló municipal
ORGANIZER:CE Serena Mar i CB Llavaneres
DESCRIPTION:CE Serena Mar Llavaneres-El Masnou Basquetbol Absis
URL:https://ajllavaneres.cat/document.php?id=1132
END:VEVENT
END:VCALENDAR