BEGIN:VCALENDAR
VERSION:2.0
PRODID:-//Plone.org//NONSGML plone.app.event//EN
X-WR-TIMEZONE:Europe/Madrid
BEGIN:VEVENT
SUMMARY:Bàsquet pre mini femení
DTSTART;TZID=Europe/Madrid;VALUE=DATE-TIME:20080202T090000
DTEND;TZID=Europe/Madrid;VALUE=DATE-TIME:20080202T100000
DTSTAMP;VALUE=DATE-TIME:20260420T025928Z
UID:89c85af845e81974c57e1915972b7d24
CREATED;VALUE=DATE-TIME:20080202T000000Z
CATEGORIES:Esports
LOCATION:Pavelló municipal
ORGANIZER:CB Llavaneres
DESCRIPTION:CB Llavaneres-BDF Beiersdorf CB Argentona
URL:https://ajllavaneres.cat/document.php?id=1133
END:VEVENT
END:VCALENDAR