BEGIN:VCALENDAR
VERSION:2.0
PRODID:-//Plone.org//NONSGML plone.app.event//EN
X-WR-TIMEZONE:Europe/Madrid
BEGIN:VEVENT
SUMMARY:Visita comentada a l'exposició "Empremtes del passat"
DTSTART;TZID=Europe/Madrid;VALUE=DATE-TIME:20170129T113000
DTEND;TZID=Europe/Madrid;VALUE=DATE-TIME:20170129T123000
DTSTAMP;VALUE=DATE-TIME:20260419T160206Z
UID:ea83fa3ca3d9b9f7c0540a35c830bf53
CREATED;VALUE=DATE-TIME:20170129T000000Z
CATEGORIES:Exposició
LOCATION:Museu-Arxiu de Llavaneres. Can Caralt - Carretera de Sant Vicenç, 14
ORGANIZER:Museu Arxiu de Sant Andreu de Llavaneres
COMMENT:Preu: gratuït
DESCRIPTION:A càrrec de Joan Condal, autor de la col·lecció.
URL:https://ajllavaneres.cat/document.php?id=11336
END:VEVENT
END:VCALENDAR