BEGIN:VCALENDAR
VERSION:2.0
PRODID:-//Plone.org//NONSGML plone.app.event//EN
X-WR-TIMEZONE:Europe/Madrid
BEGIN:VEVENT
SUMMARY:Xerrada: 'Anima't a vendre per internet!'
DTSTART;TZID=Europe/Madrid;VALUE=DATE-TIME:20170509T093000
DTEND;TZID=Europe/Madrid;VALUE=DATE-TIME:20170509T103000
DTSTAMP;VALUE=DATE-TIME:20260420T004444Z
UID:e75b7b15eef709efa035ac141616bdb1
CREATED;VALUE=DATE-TIME:20170509T000000Z
CATEGORIES:Conferència
LOCATION:Sala d'actes de la Biblioteca Municipal - Closens, 65
ORGANIZER:Regidoria de Promoció Econòmica, Empresa, Comerç i Turisme
COMMENT:Durada: De 9:30 a 11:30h, 9 i 16 de maig
DESCRIPTION:A càrrec de Georgina Dalmau de www.milimetricmkt.com
URL:https://ajllavaneres.cat/document.php?id=11352
END:VEVENT
END:VCALENDAR