BEGIN:VCALENDAR
VERSION:2.0
PRODID:-//Plone.org//NONSGML plone.app.event//EN
X-WR-TIMEZONE:Europe/Madrid
BEGIN:VEVENT
SUMMARY:Xerrada: 'Vols marxar aquest estiu a l'estranger?T'expliquem diferents opcions'
DTSTART;TZID=Europe/Madrid;VALUE=DATE-TIME:20170427T173000
DTEND;TZID=Europe/Madrid;VALUE=DATE-TIME:20170427T183000
DTSTAMP;VALUE=DATE-TIME:20260423T041024Z
UID:6932fa8fc90b652245ffdfdd84d3c486
CREATED;VALUE=DATE-TIME:20170427T000000Z
CATEGORIES:Conferència
LOCATION:Casal de joves - Passeig Mare de Deu de Montserrat, 45
ORGANIZER:Regidoria de Promoció Econòmica, Empresa, Comerç i Turisme
COMMENT:Durada: De 17:30 a 19h
DESCRIPTION:Mobilitat internacional de l'Oficina Jove del Maresme
URL:https://ajllavaneres.cat/document.php?id=11356
END:VEVENT
END:VCALENDAR