BEGIN:VCALENDAR
VERSION:2.0
PRODID:-//Plone.org//NONSGML plone.app.event//EN
X-WR-TIMEZONE:Europe/Madrid
BEGIN:VEVENT
SUMMARY:Escola de Mares i Pares: 'Assertivitat i Comunicacions difícils'
DTSTART;TZID=Europe/Madrid;VALUE=DATE-TIME:20170222T193000
DTEND;TZID=Europe/Madrid;VALUE=DATE-TIME:20170222T203000
DTSTAMP;VALUE=DATE-TIME:20260419T182825Z
UID:4053a3b36c995d43d15882151e6b4401
CREATED;VALUE=DATE-TIME:20170222T000000Z
LOCATION:Casal de Joves de Llavaneres - Passeig de la Mare de Déu de Montserrat, 45
ORGANIZER:Regidoria de Joventut
URL:https://ajllavaneres.cat/document.php?id=11359
END:VEVENT
END:VCALENDAR