BEGIN:VCALENDAR
VERSION:2.0
PRODID:-//Plone.org//NONSGML plone.app.event//EN
X-WR-TIMEZONE:Europe/Madrid
BEGIN:VEVENT
SUMMARY:Escola de Mares i Pares: 'Resolució de conflictes'
DTSTART;TZID=Europe/Madrid;VALUE=DATE-TIME:20170322T193000
DTEND;TZID=Europe/Madrid;VALUE=DATE-TIME:20170322T203000
DTSTAMP;VALUE=DATE-TIME:20260420T030101Z
UID:9a49c0556016b85900c87c4c5841d314
CREATED;VALUE=DATE-TIME:20170322T000000Z
CATEGORIES:Conferència
LOCATION:Casal de Joves de Llavaneres - Passeig de la Mare de Déu de Montserrat, 45
ORGANIZER:Regidoria de Joventut
URL:https://ajllavaneres.cat/document.php?id=11360
END:VEVENT
END:VCALENDAR