BEGIN:VCALENDAR
VERSION:2.0
PRODID:-//Plone.org//NONSGML plone.app.event//EN
X-WR-TIMEZONE:Europe/Madrid
BEGIN:VEVENT
SUMMARY:Visita Oficina Mòbil d'Atenció al Consumidor
DTSTART;TZID=Europe/Madrid;VALUE=DATE-TIME:20170120T103000
DTEND;TZID=Europe/Madrid;VALUE=DATE-TIME:20170120T113000
DTSTAMP;VALUE=DATE-TIME:20260420T024622Z
UID:665141b763ea56010aae016d7a536976
CREATED;VALUE=DATE-TIME:20170120T000000Z
LOCATION:Passeig de la Mare de Déu de Montserrat - Passeig de la Mare de Déu de Montserrat
ORGANIZER:Diputació de Barcelona. Departament de Consum
URL:https://ajllavaneres.cat/document.php?id=11361
END:VEVENT
END:VCALENDAR