BEGIN:VCALENDAR
VERSION:2.0
PRODID:-//Plone.org//NONSGML plone.app.event//EN
X-WR-TIMEZONE:Europe/Madrid
BEGIN:VEVENT
SUMMARY:Triwoman i IronKids
DTSTART;TZID=Europe/Madrid;VALUE=DATE-TIME:20170312T090000
DTEND;TZID=Europe/Madrid;VALUE=DATE-TIME:20170312T100000
DTSTAMP;VALUE=DATE-TIME:20260420T083647Z
UID:773d3d8eb4ff12339e8e94452245a076
CREATED;VALUE=DATE-TIME:20170312T000000Z
CATEGORIES:Esports
LOCATION:CN El Balís
ORGANIZER:Ironman
COMMENT:Preu: 12 &euro; (dones). Nens, gratuït
DESCRIPTION:Cursa de la Dona i recorregut infantil
URL:https://ajllavaneres.cat/document.php?id=11369
END:VEVENT
END:VCALENDAR