BEGIN:VCALENDAR
VERSION:2.0
PRODID:-//Plone.org//NONSGML plone.app.event//EN
X-WR-TIMEZONE:Europe/Madrid
BEGIN:VEVENT
SUMMARY:Sant Antoni Abat
DTSTART;TZID=Europe/Madrid;VALUE=DATE-TIME:20170129T123000
DTEND;TZID=Europe/Madrid;VALUE=DATE-TIME:20170129T133000
DTSTAMP;VALUE=DATE-TIME:20260419T213146Z
UID:dc689df407e985de2a648b973871ba1d
CREATED;VALUE=DATE-TIME:20170129T000000Z
LOCATION:Escales de l'església parroquial
ORGANIZER:Parròquia de Sant Andreu de Llavaneres
DESCRIPTION:Benedicció d'animals
URL:https://ajllavaneres.cat/document.php?id=11380
END:VEVENT
END:VCALENDAR