BEGIN:VCALENDAR
VERSION:2.0
PRODID:-//Plone.org//NONSGML plone.app.event//EN
X-WR-TIMEZONE:Europe/Madrid
BEGIN:VEVENT
SUMMARY:Taller de música en família: 'Ballmanetes'
DTSTART;TZID=Europe/Madrid;VALUE=DATE-TIME:20170304T100000
DTEND;TZID=Europe/Madrid;VALUE=DATE-TIME:20170304T110000
DTSTAMP;VALUE=DATE-TIME:20260420T040109Z
UID:d2d733afbf8e120bb4213ec50d72d8f1
CREATED;VALUE=DATE-TIME:20170304T000000Z
CATEGORIES:Infantils,Música
LOCATION:Escola Bressol Minerva de Llavaneres - Avinguda de Can Amat, 51
ORGANIZER:Escola Municipal de Música de Llavaneres
COMMENT:Preu: 33 &euro;
Durada: Fins al 22 d'abril de 2017 (cinc sessions de dissabte)
DESCRIPTION:Per a nens i nenes de 0 a 3 anys. A càrrec de l'Escola Municipal de Música
URL:https://ajllavaneres.cat/document.php?id=11383
END:VEVENT
END:VCALENDAR