BEGIN:VCALENDAR
VERSION:2.0
PRODID:-//Plone.org//NONSGML plone.app.event//EN
X-WR-TIMEZONE:Europe/Madrid
BEGIN:VEVENT
SUMMARY:Sortida a l'estany de Banyoles i les Estunes (Pla de l'Estany)
DTSTART;TZID=Europe/Madrid;VALUE=DATE-TIME:20170202T070000
DTEND;TZID=Europe/Madrid;VALUE=DATE-TIME:20170202T080000
DTSTAMP;VALUE=DATE-TIME:20260420T010114Z
UID:af53008fb086d8ad4c03c07c315bf668
CREATED;VALUE=DATE-TIME:20170202T000000Z
CATEGORIES:Esports
LOCATION:Passeig de Jaume Brutau (davant del CAP)
ORGANIZER:Secció Sènior del Casal de Llavaneres
URL:https://ajllavaneres.cat/document.php?id=11385
END:VEVENT
END:VCALENDAR