BEGIN:VCALENDAR
VERSION:2.0
PRODID:-//Plone.org//NONSGML plone.app.event//EN
X-WR-TIMEZONE:Europe/Madrid
BEGIN:VEVENT
SUMMARY:Caminada de Figueres a Peralada (anar i tornar)
DTSTART;TZID=Europe/Madrid;VALUE=DATE-TIME:20170209T070000
DTEND;TZID=Europe/Madrid;VALUE=DATE-TIME:20170209T080000
DTSTAMP;VALUE=DATE-TIME:20260420T053543Z
UID:db4dd8426e37c07bd899e340d6b23633
CREATED;VALUE=DATE-TIME:20170209T000000Z
CATEGORIES:Esports
LOCATION:Passeig de Jaume Brutau (davant del CAP)
ORGANIZER:Secció Sènior del Casal de Llavaneres
URL:https://ajllavaneres.cat/document.php?id=11386
END:VEVENT
END:VCALENDAR