BEGIN:VCALENDAR
VERSION:2.0
PRODID:-//Plone.org//NONSGML plone.app.event//EN
X-WR-TIMEZONE:Europe/Madrid
BEGIN:VEVENT
SUMMARY:Excursió a les Gorgues de Salenys i Romanyà de la Selva
DTSTART;TZID=Europe/Madrid;VALUE=DATE-TIME:20170216T070000
DTEND;TZID=Europe/Madrid;VALUE=DATE-TIME:20170216T080000
DTSTAMP;VALUE=DATE-TIME:20260423T145602Z
UID:bb520b8f516939eafe64e1db96779448
CREATED;VALUE=DATE-TIME:20170216T000000Z
CATEGORIES:Esports
LOCATION:Passeig de Jaume Brutau (davant del CAP)
ORGANIZER:Secció Sènior del Casal de Llavaneres
URL:https://ajllavaneres.cat/document.php?id=11387
END:VEVENT
END:VCALENDAR