BEGIN:VCALENDAR
VERSION:2.0
PRODID:-//Plone.org//NONSGML plone.app.event//EN
X-WR-TIMEZONE:Europe/Madrid
BEGIN:VEVENT
SUMMARY:Taller: 'Batucada'
DTSTART;TZID=Europe/Madrid;VALUE=DATE-TIME:20170206T193000
DTEND;TZID=Europe/Madrid;VALUE=DATE-TIME:20170206T203000
DTSTAMP;VALUE=DATE-TIME:20260420T061737Z
UID:b6de8fea756aed445018257ef09ae487
CREATED;VALUE=DATE-TIME:20170206T000000Z
CATEGORIES:Música
LOCATION:Escola de Música. Can Caralt - Camí de Caralt, s/n
ORGANIZER:Escola Municipal de Música Llavaneres
COMMENT:Preu: 38&euro;/taller
Durada: Fins al 17 de juny de 2017
DESCRIPTION:Dos tallers de vuit sessions d'una hora de durada i una sortida per tocar al carrer
URL:https://ajllavaneres.cat/document.php?id=11389
END:VEVENT
END:VCALENDAR