BEGIN:VCALENDAR
VERSION:2.0
PRODID:-//Plone.org//NONSGML plone.app.event//EN
X-WR-TIMEZONE:Europe/Madrid
BEGIN:VEVENT
SUMMARY:Sortida al Liceu: 'Rigoletto', de Giuseppe Verdi
DTSTART;TZID=Europe/Madrid;VALUE=DATE-TIME:20170326T161500
DTEND;TZID=Europe/Madrid;VALUE=DATE-TIME:20170326T171500
DTSTAMP;VALUE=DATE-TIME:20260419T152529Z
UID:2874c7eeefb6b677de13ef55b8cf31b3
CREATED;VALUE=DATE-TIME:20170326T000000Z
CATEGORIES:Música
LOCATION:Plaça de la Vila (sortida)
ORGANIZER:Secció de Cultura del Casal de Llavaneres
COMMENT:Preu: 110 &euro; (cal reserva prèvia d'entrada)
URL:https://ajllavaneres.cat/document.php?id=11393
END:VEVENT
END:VCALENDAR