BEGIN:VCALENDAR
VERSION:2.0
PRODID:-//Plone.org//NONSGML plone.app.event//EN
X-WR-TIMEZONE:Europe/Madrid
BEGIN:VEVENT
SUMMARY:Rua de Carnestoltes de l'Escola Jaume Llull
DTSTART;TZID=Europe/Madrid;VALUE=DATE-TIME:20170224T110000
DTEND;TZID=Europe/Madrid;VALUE=DATE-TIME:20170224T120000
DTSTAMP;VALUE=DATE-TIME:20260420T085916Z
UID:49e795fbfcaec4fcd8ee0cd27ea00ea4
CREATED;VALUE=DATE-TIME:20170224T000000Z
CATEGORIES:Festa,Infantils
LOCATION:Altre (ho explico més avall)
ORGANIZER:Escola Jaume Llull
URL:https://ajllavaneres.cat/document.php?id=11397
END:VEVENT
END:VCALENDAR